BEGIN:VCALENDAR
VERSION:2.0
PRODID:-// - ECPv6.15.20//NONSGML v1.0//EN
CALSCALE:GREGORIAN
METHOD:PUBLISH
X-ORIGINAL-URL:https://kapiteltaunus.de
X-WR-CALDESC:Veranstaltungen für 
REFRESH-INTERVAL;VALUE=DURATION:PT1H
X-Robots-Tag:noindex
X-PUBLISHED-TTL:PT1H
BEGIN:VTIMEZONE
TZID:UTC
BEGIN:STANDARD
TZOFFSETFROM:+0000
TZOFFSETTO:+0000
TZNAME:UTC
DTSTART:20250101T000000
END:STANDARD
END:VTIMEZONE
BEGIN:VEVENT
DTSTART;TZID=UTC:20260919T100000
DTEND;TZID=UTC:20260919T200000
DTSTAMP:20260421T155646
CREATED:20260408T195442Z
LAST-MODIFIED:20260408T195442Z
UID:1189-1789812000-1789848000@kapiteltaunus.de
SUMMARY:1. Taunus Buchmesse – Kapitel Taunus
DESCRIPTION:Am 19. September 2026 wird ein neues Kapitel im Taunus aufgeschlagen:Mit der ersten Taunus Buchmesse lädt Kapitel Taunus zu einem Tag voller Geschichten\, Begegnungen und Inspiration ein. \nIn der Stadthalle Hofheim am Taunus treffen von 10:00 bis 18:00 Uhr Autor*innen\, Leser*innen\, Verlage und Buchbegeisterte aufeinander\, zum Austauschen\, Entdecken und gemeinsamen Erleben von Literatur. \nOb persönliche Gespräche mit Autor*innen\, neue Bücher zum Verlieben oder einfach die besondere Atmosphäre zwischen Seiten und Geschichten: Die Taunus Buchmesse schafft Raum für all das\, was Literatur ausmacht. \nAls Highlight eines ganzen Monats voller Lesungen im Taunus steht dieser Tag für Begegnung\, Vielfalt und die Kraft von Geschichten. \nKommt vorbei\, taucht ein und erlebt Literatur dort\, wo sie am schönsten ist\, mitten unter Menschen. \nEintritt: Erwachsen 7€\, Ermäßft (Renter*inne\, Student*innen\, Schüler*innen\, Azubis) 5€ und Kinder unter 6 Jahren kostenfrei.\nTickets ab dem 31.05.2026 erhältlich. Eine Tageskasse ist ebenso vorhanden.
URL:https://kapiteltaunus.de/veranstaltung/1-taunus-buchmesse-kapitel-taunus/
LOCATION:Stadthalle Hofheim am Taunus\, Chinonplatz 4\, Hofheim am Taunus\, Hessen\, 65719\, Germany
END:VEVENT
END:VCALENDAR